BEGIN:VCALENDAR
VERSION:2.0
PRODID:-//TalTech Kultuuriklubi - ECPv6.15.20//NONSGML v1.0//EN
CALSCALE:GREGORIAN
METHOD:PUBLISH
X-ORIGINAL-URL:https://kultuuriklubi.ee
X-WR-CALDESC:Events for TalTech Kultuuriklubi
REFRESH-INTERVAL;VALUE=DURATION:PT1H
X-Robots-Tag:noindex
X-PUBLISHED-TTL:PT1H
BEGIN:VTIMEZONE
TZID:Europe/Tallinn
BEGIN:DAYLIGHT
TZOFFSETFROM:+0200
TZOFFSETTO:+0300
TZNAME:EEST
DTSTART:20240331T010000
END:DAYLIGHT
BEGIN:STANDARD
TZOFFSETFROM:+0300
TZOFFSETTO:+0200
TZNAME:EET
DTSTART:20241027T010000
END:STANDARD
BEGIN:DAYLIGHT
TZOFFSETFROM:+0200
TZOFFSETTO:+0300
TZNAME:EEST
DTSTART:20250330T010000
END:DAYLIGHT
BEGIN:STANDARD
TZOFFSETFROM:+0300
TZOFFSETTO:+0200
TZNAME:EET
DTSTART:20251026T010000
END:STANDARD
BEGIN:DAYLIGHT
TZOFFSETFROM:+0200
TZOFFSETTO:+0300
TZNAME:EEST
DTSTART:20260329T010000
END:DAYLIGHT
BEGIN:STANDARD
TZOFFSETFROM:+0300
TZOFFSETTO:+0200
TZNAME:EET
DTSTART:20261025T010000
END:STANDARD
END:VTIMEZONE
BEGIN:VEVENT
DTSTART;TZID=Europe/Tallinn:20250825T220000
DTEND;TZID=Europe/Tallinn:20250826T040000
DTSTAMP:20260423T142521
CREATED:20250801T123633Z
LAST-MODIFIED:20250817T131512Z
UID:2138-1756159200-1756180800@kultuuriklubi.ee
SUMMARY:SEMESTRI AVALÖÖK 2025 ︱NOËP
DESCRIPTION:ENG BELOW \nsuvehooaeg lõppeb\, koolihooaeg algab. see tähendab vaid üht – käes on aeg TalTech Kultuuriklubi poolt korraldatavaks peosarjaks Triloogiaks\, millele annab stardivile 💥SEMESTRI AVALÖÖK 2025💥 \njersey’d selga\, tossud jalga ja sammud Patarei Merekindluse suunas\, kus ootab sind ees üks korralik kooliaasta kick-off⚽️ väljakul kohtuvad uued ja vanad tuttavad\, et päikeseloojangu ja mõnusa musa saatel suvele tsau öelda ja algavateks õpinguteks energiat ammutada☀️🎶 \nlive etteastega loob atmosfääri NOËP\, lisaks keerutavad plaate blondemunk b2b madi ning tommi b2b ärni🕺 \noodatud on kõik tudengid olenemata ülikoolist\, olgu selleks või eluülikool🎓 \npidu on 18+ (dokument kaasa) \nväravad avame 22:00 \n— — — \npiletid/tickets🎫 \n12€ early bird \n15€ regular bird \n18€ late bird \nkohapeal 22€ \nlink: https://gateme.com/event/102162/ \n— — —  \nline up:  \n🎤NOËP \n📀blondemunk b2b madi \n📀tommi b2b ärni \n📀r4ndo \n— — — \nps!🦊 kui oled TalTechi rebane\, oled enne pidu oodatud TalTech üliõpilasesinduse poolt korraldatavale Avalöögi Orienteerumisele\, kus tutvud campuse\, tudengiorganisatsioonide ning oma kursakatega\, kellega õhtul peole tulla😉 \nlink: https://fb.me/e/3i2XcZQvj \nnäeme! \n⚠️üritust jäädvustatakse fotode ja videotena\, mida võidakse kasutada tulevikus turunduslikel eesmärkidel. \n— — — \nENG: \nthe summer season is ending\, the school season is starting. that can only mean one thing – it’s time for Trilogy\, the legendary party series organized by TalTech Culture Club\, kicked off by 💥SEMESTRI AVALÖÖK 2025💥 \njerseys on\, sneakers laced up\, and head over to Patarei Sea Fortress\, where a proper school year kick-off awaits you⚽️ old and new friends will meet on the field to say goodbye to summer and soak up some energy for the studies ahead – all to the rhythm of great music and a golden sunset☀️🎶 \nNOËP sets the mood with a live performance\, joined by DJs blondemunk\, tommi\, ärni and madi spinning tracks throughout the night🕺 \nall students are welcome\, regardless of your university – even if it’s the university of life🎓\nthe party is 18+ (bring your ID)\ndoors open at 22:00 \n— — —  \nps!🦊 if you’re a TalTech freshman\, you’re invited to the Kick-Off Event organized by the TalTech Student Council before the party\, where you’ll get to know the campus\, student organizations\, and your coursemates – perfect people to head to the party with later😉 \nlink: https://fb.me/e/3qCgnwuAv \nsee you! \n⚠️this event will be captured in photos and videos\, which may be used for future marketing purposes.
URL:https://kultuuriklubi.ee/event/semestri-avalook-2025-%ef%b8%b1noep/
LOCATION:Patarei Merekindlus\, Kalaranna 28\, Tallinn\, 10415\, EE
ATTACH;FMTTYPE=image/png:https://kultuuriklubi.ee/wp-content/uploads/2025/08/banner-scaled.png
ORGANIZER;CN="TalTech Kultuuriklubi":MAILTO:kontakt@kultuuriklubi.ee
END:VEVENT
END:VCALENDAR