BEGIN:VCALENDAR
VERSION:2.0
PRODID:-//TalTech Kultuuriklubi - ECPv6.15.20//NONSGML v1.0//EN
CALSCALE:GREGORIAN
METHOD:PUBLISH
X-WR-CALNAME:TalTech Kultuuriklubi
X-ORIGINAL-URL:https://kultuuriklubi.ee
X-WR-CALDESC:Events for TalTech Kultuuriklubi
REFRESH-INTERVAL;VALUE=DURATION:PT1H
X-Robots-Tag:noindex
X-PUBLISHED-TTL:PT1H
BEGIN:VTIMEZONE
TZID:Europe/Tallinn
BEGIN:DAYLIGHT
TZOFFSETFROM:+0200
TZOFFSETTO:+0300
TZNAME:EEST
DTSTART:20250330T010000
END:DAYLIGHT
BEGIN:STANDARD
TZOFFSETFROM:+0300
TZOFFSETTO:+0200
TZNAME:EET
DTSTART:20251026T010000
END:STANDARD
BEGIN:DAYLIGHT
TZOFFSETFROM:+0200
TZOFFSETTO:+0300
TZNAME:EEST
DTSTART:20260329T010000
END:DAYLIGHT
BEGIN:STANDARD
TZOFFSETFROM:+0300
TZOFFSETTO:+0200
TZNAME:EET
DTSTART:20261025T010000
END:STANDARD
BEGIN:DAYLIGHT
TZOFFSETFROM:+0200
TZOFFSETTO:+0300
TZNAME:EEST
DTSTART:20270328T010000
END:DAYLIGHT
BEGIN:STANDARD
TZOFFSETFROM:+0300
TZOFFSETTO:+0200
TZNAME:EET
DTSTART:20271031T010000
END:STANDARD
END:VTIMEZONE
BEGIN:VEVENT
DTSTART;TZID=Europe/Tallinn:20260507T170000
DTEND;TZID=Europe/Tallinn:20260507T220000
DTSTAMP:20260425T141400
CREATED:20260409T135121Z
LAST-MODIFIED:20260424T164829Z
UID:2248-1778173200-1778191200@kultuuriklubi.ee
SUMMARY:SAUNAMARATON 2026 [07.05]
DESCRIPTION:EST \nOn aeg vaim valmis panna ja saun kuumaks kütta – SAUNAMARATON 2026 on tagasi ja suurem kui kunagi varem! \nKahel rajal ootavad Sind 18 saunaelamust\, kus iga peatus on omaette seiklus: mängud\, väljakutsed ja puhas saunaenergia\, mis paneb nii keha kui tiimitunde proovile.\n\nTõmba selga oma kõige pöörasem kostüüm\, sest läbivaks teemaks on sel aastal TSIRKUS!  Võta kaasa kolm sõpra ja asuge koos TalTechi kampuses kuumale seiklusele. Teie ülesandeks on läbida saunapunktid\, lahendada väljakutseid ja nautida mõnusat kevadpäeva täis naeru ja tiimivaimu.\n\n Registreerimine avatakse: 23. aprill Osalustasu: 32€ tiimi kohta\n\nRegistreerimise järel saadetakse teile kinnituskiri kogu vajaliku info ja maksejuhisega.\nSaunarätik kaasa ja meeskond ritta! Saunamaraton ootab sind 7. mail TalTechi kampuses!\n\nNB! Üritust jäädvustatakse fotode ja videotena\, mida võidakse kasutada tulevikus turunduslikel eesmärkidel.\n\nENG \nIt’s time to get ready and heat up the sauna – SAUNAMARATON 2026 is back! \nAcross two epic tracks\, 18 unique saunas are waiting for you. At every stop\, you can put yourself to the test with exciting games while experiencing the true magic of the sauna.\n\nStep into the spotlight and bring your boldest costume\, because this year’s theme is CIRCUS!  Grab three of your friends and dive into a steaming adventure at the TalTech campus. Your mission is to navigate through the sauna points\, solve challenges\, and enjoy a wonderful spring day filled with laughter and team spirit.\n\n Registration opens on April 23th Participation fee: 32€ per team\n\nAfter registering\, you will receive an email with all the necessary information and payment instructions.\nGrab your towel and line up your team! Saunamarathon is waiting for you on May 7th at the TalTech campus!\n\nPS! This event will be captured in photos and videos\, which may be used for future marketing purposes.
URL:https://kultuuriklubi.ee/event/saunamaraton-2026/
LOCATION:Ehitajate tee 5\, Mustamäe\, Tallinn\, 19086 Harju Maakond\, Eesti
CATEGORIES:Üritused
ATTACH;FMTTYPE=image/jpeg:https://kultuuriklubi.ee/wp-content/uploads/2026/04/cover.jpg
ORGANIZER;CN="TalTech Kultuuriklubi":MAILTO:kontakt@kultuuriklubi.ee
END:VEVENT
BEGIN:VEVENT
DTSTART;TZID=Europe/Tallinn:20260521T180000
DTEND;TZID=Europe/Tallinn:20260521T220000
DTSTAMP:20260425T141400
CREATED:20260424T164534Z
LAST-MODIFIED:20260424T164802Z
UID:2254-1779386400-1779400800@kultuuriklubi.ee
SUMMARY:TUVI 2026 [21.05]
DESCRIPTION:I ENGLISH BELOW I\n\nPäike paistab\, UV on juba peaaegu 1 ja suvi tundub juba niiiiiii lähedal!  Enne veel tuleb aga ära teha eksamid ja kaitsmised – TUVI aitab stressi maandada! TUVI (tudengite + vilistlaste) pidu/piknik toob kokku hea seltskonna\, muusika ja meelelahutuse\, et nautida mõnusat (peaaegu) suveõhtut enne suurt puhkust ja lõpuaktuseid.\n\n 21. mail 2026 TalTechi siseõue terrassil Algus: 18.00\nMida oodata? Kultuuriklubi DJ-de poolt hea muusika Erinevad mängud Tudengisõbralike hindadega baar ja snäkipunkt\nNB! Laudu ja toole jätkub kiirematele. Võta kaasa piknikutekk või istumisalus!\n\nJÄRELPIDU: INFO TULEB PEAGI!\nKutsu kaasa kursakaaslased ja tule veeda üks mõnus õhtu! Rohkem infot peagi – jälgi eventi!\nNB! Üritust jäädvustatakse fotode ja videotena\, mida võidakse kasutada tulevikus turunduslikel eesmärkidel.\n\nI ENGLISH I\nThe sun is shining\, UV is almost at a 1 and the summer seems soooo close!  But\, before that you have to complete your exams – TUVI comes to the rescue and helps reduce the stress! TUVI (students + alumni) party/picnic brings together great company\, music\, and entertainment to enjoy a pleasant (almost) summer evening before the big break and the graduation ceremony.\nNB! Bring a picnic blanket or something to sit on!\n\n May 21\, 2026 TalTech inner courtyard terrace Start: 18:00\nWhat to expect? Great music by Kultuuriklubi DJs Various games A student-friendly bar and food stand\n\nAFTERPARTY: INFO COMING SOON!\nInvite your coursemates and come enjoy a great evening! More info coming soon – keep your eyes on the event!\nNB! This event will be captured in photos and videos\, which may be used for future marketing purposes.
URL:https://kultuuriklubi.ee/event/tuvi-2026/
LOCATION:Ehitajate tee 5\, Mustamäe\, Tallinn\, 19086 Harju Maakond\, Eesti
ATTACH;FMTTYPE=image/jpeg:https://kultuuriklubi.ee/wp-content/uploads/2026/04/TUVI2026-1920x1080-1.jpg
ORGANIZER;CN="TalTech Kultuuriklubi":MAILTO:kontakt@kultuuriklubi.ee
END:VEVENT
END:VCALENDAR