BEGIN:VCALENDAR
VERSION:2.0
PRODID:-//TalTech Kultuuriklubi - ECPv6.15.20//NONSGML v1.0//EN
CALSCALE:GREGORIAN
METHOD:PUBLISH
X-ORIGINAL-URL:https://www.kultuuriklubi.ee
X-WR-CALDESC:Events for TalTech Kultuuriklubi
REFRESH-INTERVAL;VALUE=DURATION:PT1H
X-Robots-Tag:noindex
X-PUBLISHED-TTL:PT1H
BEGIN:VTIMEZONE
TZID:Europe/Tallinn
BEGIN:DAYLIGHT
TZOFFSETFROM:+0200
TZOFFSETTO:+0300
TZNAME:EEST
DTSTART:20220327T010000
END:DAYLIGHT
BEGIN:STANDARD
TZOFFSETFROM:+0300
TZOFFSETTO:+0200
TZNAME:EET
DTSTART:20221030T010000
END:STANDARD
BEGIN:DAYLIGHT
TZOFFSETFROM:+0200
TZOFFSETTO:+0300
TZNAME:EEST
DTSTART:20230326T010000
END:DAYLIGHT
BEGIN:STANDARD
TZOFFSETFROM:+0300
TZOFFSETTO:+0200
TZNAME:EET
DTSTART:20231029T010000
END:STANDARD
BEGIN:DAYLIGHT
TZOFFSETFROM:+0200
TZOFFSETTO:+0300
TZNAME:EEST
DTSTART:20240331T010000
END:DAYLIGHT
BEGIN:STANDARD
TZOFFSETFROM:+0300
TZOFFSETTO:+0200
TZNAME:EET
DTSTART:20241027T010000
END:STANDARD
END:VTIMEZONE
BEGIN:VEVENT
DTSTART;TZID=Europe/Tallinn:20230914T230000
DTEND;TZID=Europe/Tallinn:20230915T040000
DTSTAMP:20260425T141739
CREATED:20230814T173604Z
LAST-MODIFIED:20230814T173604Z
UID:1697-1694732400-1694750400@www.kultuuriklubi.ee
SUMMARY:[14.09] Rebaste Pidu | Club Hollywood | 14.09
DESCRIPTION: 𝐑𝐄𝐁𝐀𝐒𝐓𝐄 𝐏𝐈𝐃𝐔\nAuuuuuu kõik rebased!! \nKõik REBASED ja REBASEMEELSED – see pidu on Teile! Käes on aeg\, et teha kõikidest esmakursuslastest ühed pöörased Tipikad! Selleks ootame Teid klubisse HOLLYWOOD\, kus paneme kõik rebased tantsupõrandal üheskoos ulguma ja oma parimaid tantsusamme esitlema.\nNB! Peole on oodatud kõik\, olenemata koolist ja tudengistaatusest.\n 𝐑𝐄𝐁𝐀𝐒𝐓𝐄 𝐏𝐈𝐃𝐔\nAll FOXES and FOX LOVERS\, this party is for you\, because it’s time to party! For that\, we invite you all to the club HOLLYWOOD\, where we will make all the foxes howl together on the dance floor.\nNB! Everyone is welcome at the party\, regardless of the student status and school.\n▬▬▬▬▬▬▬▬▬▬▬▬▬▬▬▬▬▬▬▬▬\n 𝐏𝐈𝐋𝐄𝐓𝐈𝐃:\nPiletid müügil – https://gateme.com/…/98671-topelt-rebaste-pidu-club…/\n 8€ varajane rebane\n 10€ õigel ajal jaole saanud rebane\n 12€ hiline rebane/kohapeal\n𝐓𝐈𝐂𝐊𝐄𝐓𝐒:\nGet your tickets from – https://gateme.com/…/98671-topelt-rebaste-pidu-club…/\n 8€ early fox\n 10€ right on time fox\n 12€ late fox/on spot\n▬▬▬▬▬▬▬▬▬▬▬▬▬▬▬▬▬▬▬▬▬\n𝐋𝐈𝐍𝐄-𝐔𝐏\nSiimi\nWhogaux\nPahv\nMoistus\n▬▬▬▬▬▬▬▬▬▬▬▬▬▬▬▬▬▬▬▬▬\nUksed/Doors: 23.00\nVanusepiirang/Age limit: 18+\nDokument on vajalik/ID is required!\n▬▬▬▬▬▬▬▬▬▬▬▬▬▬▬▬▬▬▬▬▬\n*Korraldajatel on õigus teha programmis muudatusi.\n*The organizers reserve the right to make changes to the event program.\n\nNäeme tantsuplatsil!! See you on the dance floor!
URL:https://www.kultuuriklubi.ee/event/14-09-rebaste-pidu-club-hollywood-14-09/
LOCATION:Club Hollywood\, Vana-Posti 8\, Tallinn\, 10146\, EE
ATTACH;FMTTYPE=image/png:https://kultuuriklubi.ee/wp-content/uploads/2023/08/Rebased23-FB-1920x1005-Asukohaga-1.png
ORGANIZER;CN="TT%C3%9C Kultuuriklubi":MAILTO:kontakt@kultuuriklubi.ee
END:VEVENT
BEGIN:VEVENT
DTSTART;TZID=Europe/Tallinn:20230929T220000
DTEND;TZID=Europe/Tallinn:20230930T043000
DTSTAMP:20260425T141739
CREATED:20230830T141911Z
LAST-MODIFIED:20230830T142236Z
UID:1703-1696024800-1696048200@www.kultuuriklubi.ee
SUMMARY:[29.09] PARKLAPIDU | Tudengkonna 103. sünnipäev | Cartoon
DESCRIPTION:↓Eng below↓\nCan you frickin’ believe it…taas on aeg\, et üheskoos pidu panna!! \nKätte on jõudnud legendaarne PARKLAPIDU\,  kus tähistame Tudengkonna 103. sünnipäeva!  Ootame sind ühikate vahelises maa-aluses parklas (Akadeemia tee 7/1 ja 7/2 vahel)\, et õige tudengi kombel Triloogiale punkt panna. Sind võtab vastu kaks lava\, hunnik diskoreid\, kes viivadgko sünnipäevalised unustamatule muusikalisele retkele.\nParklapeo kütavad kuumaks pealaval CARTOON\, Muul\, Birddy ja Moistus. Teisel laval kõlavad tavapärasest erilisemad noodid\, mida esitavad Löukii ja Juuse. Pane juurde veel omanäoline asukoht ja tantsuõli ning selline ongi õige Tudengkonna sünnipäev!\nKui tihti sa ikka saad öelda\, et oled maa-aluses parklas sünnipäevapeol käinud? Nüüd on sinu võimalus see teoks teha!\nNB! Peole on oodatud kõik tudengid\, tudengimeelsed\, õppejõud\, vilistlased ja ka teiste koolide esindajad\, et üheskoos pidada maha simman\, mis jääb meelde igaveseks! \n———————————————————————\nPILETID:\nLINK: https://gateme.com/event/98743/\n———————————————————————\nLINE UP\nMain stage:\n– Cartoon\n– Muul\n– Birddy\n– Moistus\nSecond stage:\n– Löukii\n– Juuse\n———————————————————————\nTegu on 18+ üritusega\, sissepääs vaid dokumendi alusel!\nUksed: 22:00 \nNäeme parklas!\n\nENG:\nCan you frickin’ believe it…it’s time to party again!! \nThe legendary PARKING LOT PARTY  has arrived\, where we celebrate the Student Union’s 103rd birthday.\nWe are waiting for you in the underground parking lot between the units (Academia street 7/1 and 7/2) to put an end to the Trilogy like a proper student. You will be welcomed by two stages and DJ guys who have been practicing all summer to bring you their best beats.\nCARTOON\, Muul\, Birddy and Moistus heat up the parking lot party on the main stage. On the second stage\, more special notes are played by Löukii and Juuse. Just add an unique location and dance oil\, and that’s the right Student Union’s birthday party!\nHow often can you say you’ve been to a birthday party in an underground parking lot? Now is your chance to make it happen!\nNB! We welcome everyone to the party\, regardless of student status\n———————————————————————\nTICKETS:\nLINK: https://gateme.com/event/98743/\n———————————————————————\nLINE UP\nMain stage:\n– Cartoon\n– Muul\n– Birddy\n– Moistus\nSecond stage:\n– Löukii\n– Juuse\n———————————————————————\nThis event is 18+\, entry is based on a document!\nDoors: 22:00\nSee you in the parking lot!
URL:https://www.kultuuriklubi.ee/event/29-09-parklapidu-tudengkonna-103-sunnipaev-cartoon/
ATTACH;FMTTYPE=image/png:https://kultuuriklubi.ee/wp-content/uploads/2023/08/Parkla23-FB-1920x1005-Asukohaga-1.png
END:VEVENT
END:VCALENDAR